BEGIN:VCALENDAR
VERSION:2.0
PRODID:-//81.201.148.31//NONSGML kigkonsult.se iCalcreator 2.41.92//
CALSCALE:GREGORIAN
METHOD:PUBLISH
UID:38623965-6330-4439-a466-386230386434
X-WR-CALNAME:KOKOS IMPORT Theatertermine
X-WR-CALDESC:
X-WR-TIMEZONE:Europe/Berlin
BEGIN:VEVENT
UID:37626266-6431-4835-b764-653331666262
DTSTAMP:20260421T193837Z
DESCRIPTION:
DTSTART:20260716T180000
DTEND:20260716T190000
SUMMARY:Ökumenisches Abendgebet
END:VEVENT
END:VCALENDAR
