BEGIN:VCALENDAR
VERSION:2.0
PRODID:-//81.201.148.31//NONSGML kigkonsult.se iCalcreator 2.41.92//
CALSCALE:GREGORIAN
METHOD:PUBLISH
UID:37356465-3830-4632-b033-373235373437
X-WR-CALNAME:KOKOS IMPORT Theatertermine
X-WR-CALDESC:
X-WR-TIMEZONE:Europe/Berlin
BEGIN:VEVENT
UID:39303934-3638-4233-a161-666261356435
DTSTAMP:20260423T095526Z
DESCRIPTION:
DTSTART:20260910T180000
DTEND:20260910T190000
SUMMARY:Ökumenisches Abendgebet
END:VEVENT
END:VCALENDAR
