BEGIN:VCALENDAR
VERSION:2.0
PRODID:-//81.201.148.31//NONSGML kigkonsult.se iCalcreator 2.41.92//
CALSCALE:GREGORIAN
METHOD:PUBLISH
UID:31363663-3765-4239-a162-653661363063
X-WR-CALNAME:KOKOS IMPORT Theatertermine
X-WR-CALDESC:
X-WR-TIMEZONE:Europe/Berlin
BEGIN:VEVENT
UID:64613365-3465-4530-b631-323965613762
DTSTAMP:20260423T095525Z
DESCRIPTION:
DTSTART:20260917T180000
DTEND:20260917T190000
SUMMARY:Ökumenisches Abendgebet
END:VEVENT
END:VCALENDAR
