BEGIN:VCALENDAR
VERSION:2.0
PRODID:-//81.201.148.31//NONSGML kigkonsult.se iCalcreator 2.41.92//
CALSCALE:GREGORIAN
METHOD:PUBLISH
UID:62633737-6637-4165-b166-326437383262
X-WR-CALNAME:KOKOS IMPORT Theatertermine
X-WR-CALDESC:
X-WR-TIMEZONE:Europe/Berlin
BEGIN:VEVENT
UID:38366333-3263-4138-b031-313333366261
DTSTAMP:20260423T093534Z
DESCRIPTION:
DTSTART:20260106T100000
DTEND:20260106T120000
SUMMARY:Offene Kirche
END:VEVENT
END:VCALENDAR
