BEGIN:VCALENDAR
VERSION:2.0
PRODID:-//81.201.148.31//NONSGML kigkonsult.se iCalcreator 2.41.92//
CALSCALE:GREGORIAN
METHOD:PUBLISH
UID:34386263-6237-4737-b265-373663343238
X-WR-CALNAME:KOKOS IMPORT Theatertermine
X-WR-CALDESC:
X-WR-TIMEZONE:Europe/Berlin
BEGIN:VEVENT
UID:34326561-3566-4535-a165-396563366263
DTSTAMP:20260423T133735Z
DESCRIPTION:
DTSTART:20260105T100000
DTEND:20260105T120000
SUMMARY:Offene Kirche
END:VEVENT
END:VCALENDAR
