BEGIN:VCALENDAR
VERSION:2.0
PRODID:-//81.201.148.31//NONSGML kigkonsult.se iCalcreator 2.41.92//
CALSCALE:GREGORIAN
METHOD:PUBLISH
UID:30343934-3638-4366-b833-636364336362
X-WR-CALNAME:KOKOS IMPORT Theatertermine
X-WR-CALDESC:
X-WR-TIMEZONE:Europe/Berlin
BEGIN:VEVENT
UID:33623032-3761-4162-b965-653831666465
DTSTAMP:20260423T163831Z
DESCRIPTION:
DTSTART:20260103T100000
DTEND:20260103T120000
SUMMARY:Offene Kirche
END:VEVENT
END:VCALENDAR
