BEGIN:VCALENDAR
VERSION:2.0
PRODID:-//81.201.148.31//NONSGML kigkonsult.se iCalcreator 2.41.92//
CALSCALE:GREGORIAN
METHOD:PUBLISH
UID:38666630-6539-4336-a537-626533346263
X-WR-CALNAME:KOKOS IMPORT Theatertermine
X-WR-CALDESC:
X-WR-TIMEZONE:Europe/Berlin
BEGIN:VEVENT
UID:36616661-3332-4130-b635-636661343934
DTSTAMP:20260423T093458Z
DESCRIPTION:
DTSTART:20260110T100000
DTEND:20260110T120000
SUMMARY:Offene Kirche
END:VEVENT
END:VCALENDAR
