BEGIN:VCALENDAR
VERSION:2.0
PRODID:-//81.201.148.31//NONSGML kigkonsult.se iCalcreator 2.41.92//
CALSCALE:GREGORIAN
METHOD:PUBLISH
UID:61363438-3764-4465-b231-643538356136
X-WR-CALNAME:KOKOS IMPORT Theatertermine
X-WR-CALDESC:
X-WR-TIMEZONE:Europe/Berlin
BEGIN:VEVENT
UID:65326631-3631-4261-a332-316263616363
DTSTAMP:20260419T140845Z
DESCRIPTION:
DTSTART:20260313T100000
DTEND:20260313T120000
SUMMARY:Offene Kirche
END:VEVENT
END:VCALENDAR
