BEGIN:VCALENDAR
VERSION:2.0
PRODID:-//81.201.148.31//NONSGML kigkonsult.se iCalcreator 2.41.92//
CALSCALE:GREGORIAN
METHOD:PUBLISH
UID:35376266-6331-4339-a164-393238623537
X-WR-CALNAME:KOKOS IMPORT Theatertermine
X-WR-CALDESC:
X-WR-TIMEZONE:Europe/Berlin
BEGIN:VEVENT
UID:65393166-3264-4834-b831-616265666331
DTSTAMP:20260419T140236Z
DESCRIPTION:
DTSTART:20260319T100000
DTEND:20260319T120000
SUMMARY:Offene Kirche
END:VEVENT
END:VCALENDAR
