BEGIN:VCALENDAR
VERSION:2.0
PRODID:-//81.201.148.31//NONSGML kigkonsult.se iCalcreator 2.41.92//
CALSCALE:GREGORIAN
METHOD:PUBLISH
UID:38343462-3937-4733-a265-366263383935
X-WR-CALNAME:KOKOS IMPORT Theatertermine
X-WR-CALDESC:
X-WR-TIMEZONE:Europe/Berlin
BEGIN:VEVENT
UID:62653463-3436-4538-b738-366162663536
DTSTAMP:20260419T181126Z
DESCRIPTION:
DTSTART:20260320T100000
DTEND:20260320T120000
SUMMARY:Offene Kirche
END:VEVENT
END:VCALENDAR
