BEGIN:VCALENDAR
VERSION:2.0
PRODID:-//81.201.148.31//NONSGML kigkonsult.se iCalcreator 2.41.92//
CALSCALE:GREGORIAN
METHOD:PUBLISH
UID:38653461-6637-4636-a462-626664306163
X-WR-CALNAME:KOKOS IMPORT Theatertermine
X-WR-CALDESC:
X-WR-TIMEZONE:Europe/Berlin
BEGIN:VEVENT
UID:39393563-6636-4165-b463-616163343433
DTSTAMP:20260419T212522Z
DESCRIPTION:
DTSTART:20260323T100000
DTEND:20260323T120000
SUMMARY:Offene Kirche
END:VEVENT
END:VCALENDAR
