BEGIN:VCALENDAR
VERSION:2.0
PRODID:-//81.201.148.31//NONSGML kigkonsult.se iCalcreator 2.41.92//
CALSCALE:GREGORIAN
METHOD:PUBLISH
UID:31633039-3731-4139-b533-613432376135
X-WR-CALNAME:KOKOS IMPORT Theatertermine
X-WR-CALDESC:
X-WR-TIMEZONE:Europe/Berlin
BEGIN:VEVENT
UID:32363631-6234-4865-b063-376533303036
DTSTAMP:20260419T232146Z
DESCRIPTION:
DTSTART:20260325T100000
DTEND:20260325T120000
SUMMARY:Offene Kirche
END:VEVENT
END:VCALENDAR
