BEGIN:VCALENDAR
VERSION:2.0
PRODID:-//81.201.148.31//NONSGML kigkonsult.se iCalcreator 2.41.92//
CALSCALE:GREGORIAN
METHOD:PUBLISH
UID:37323430-3237-4231-b263-666561373437
X-WR-CALNAME:KOKOS IMPORT Theatertermine
X-WR-CALDESC:
X-WR-TIMEZONE:Europe/Berlin
BEGIN:VEVENT
UID:34613935-6438-4631-b962-303136656464
DTSTAMP:20260419T201038Z
DESCRIPTION:
DTSTART:20260330T100000
DTEND:20260330T120000
SUMMARY:Offene Kirche
END:VEVENT
END:VCALENDAR
