BEGIN:VCALENDAR
VERSION:2.0
PRODID:-//81.201.148.31//NONSGML kigkonsult.se iCalcreator 2.41.92//
CALSCALE:GREGORIAN
METHOD:PUBLISH
UID:35653631-6162-4164-b837-373436663231
X-WR-CALNAME:KOKOS IMPORT Theatertermine
X-WR-CALDESC:
X-WR-TIMEZONE:Europe/Berlin
BEGIN:VEVENT
UID:62393464-3165-4635-b465-376634396166
DTSTAMP:20260420T032652Z
DESCRIPTION:
DTSTART:20260331T100000
DTEND:20260331T120000
SUMMARY:Offene Kirche
END:VEVENT
END:VCALENDAR
