BEGIN:VCALENDAR
VERSION:2.0
PRODID:-//81.201.148.31//NONSGML kigkonsult.se iCalcreator 2.41.92//
CALSCALE:GREGORIAN
METHOD:PUBLISH
UID:33373865-3737-4466-b365-326266346539
X-WR-CALNAME:KOKOS IMPORT Theatertermine
X-WR-CALDESC:
X-WR-TIMEZONE:Europe/Berlin
BEGIN:VEVENT
UID:32623830-3837-4139-a634-636535663539
DTSTAMP:20260419T232011Z
DESCRIPTION:
DTSTART:20260401T100000
DTEND:20260401T120000
SUMMARY:Offene Kirche
END:VEVENT
END:VCALENDAR
