BEGIN:VCALENDAR
VERSION:2.0
PRODID:-//81.201.148.31//NONSGML kigkonsult.se iCalcreator 2.41.92//
CALSCALE:GREGORIAN
METHOD:PUBLISH
UID:66663032-6439-4038-a332-326235666530
X-WR-CALNAME:KOKOS IMPORT Theatertermine
X-WR-CALDESC:
X-WR-TIMEZONE:Europe/Berlin
BEGIN:VEVENT
UID:39313737-6561-4265-b264-333936353839
DTSTAMP:20260420T110512Z
DESCRIPTION:
DTSTART:20260402T100000
DTEND:20260402T120000
SUMMARY:Offene Kirche
END:VEVENT
END:VCALENDAR
