BEGIN:VCALENDAR
VERSION:2.0
PRODID:-//81.201.148.31//NONSGML kigkonsult.se iCalcreator 2.41.92//
CALSCALE:GREGORIAN
METHOD:PUBLISH
UID:62613761-3632-4462-b738-303962353136
X-WR-CALNAME:KOKOS IMPORT Theatertermine
X-WR-CALDESC:
X-WR-TIMEZONE:Europe/Berlin
BEGIN:VEVENT
UID:63613661-3637-4132-b230-313733623539
DTSTAMP:20260420T031552Z
DESCRIPTION:
DTSTART:20260404T100000
DTEND:20260404T120000
SUMMARY:Offene Kirche
END:VEVENT
END:VCALENDAR
