BEGIN:VCALENDAR
VERSION:2.0
PRODID:-//81.201.148.31//NONSGML kigkonsult.se iCalcreator 2.41.92//
CALSCALE:GREGORIAN
METHOD:PUBLISH
UID:33623831-6635-4835-b836-336464656466
X-WR-CALNAME:KOKOS IMPORT Theatertermine
X-WR-CALDESC:
X-WR-TIMEZONE:Europe/Berlin
BEGIN:VEVENT
UID:38393365-3464-4634-a433-643438663738
DTSTAMP:20260420T101425Z
DESCRIPTION:
DTSTART:20260407T100000
DTEND:20260407T120000
SUMMARY:Offene Kirche
END:VEVENT
END:VCALENDAR
