BEGIN:VCALENDAR
VERSION:2.0
PRODID:-//81.201.148.31//NONSGML kigkonsult.se iCalcreator 2.41.92//
CALSCALE:GREGORIAN
METHOD:PUBLISH
UID:63343634-6630-4637-b532-656661396466
X-WR-CALNAME:KOKOS IMPORT Theatertermine
X-WR-CALDESC:
X-WR-TIMEZONE:Europe/Berlin
BEGIN:VEVENT
UID:37623737-6131-4766-b335-343430396239
DTSTAMP:20260420T071538Z
DESCRIPTION:
DTSTART:20260408T100000
DTEND:20260408T120000
SUMMARY:Offene Kirche
END:VEVENT
END:VCALENDAR
