BEGIN:VCALENDAR
VERSION:2.0
PRODID:-//81.201.148.31//NONSGML kigkonsult.se iCalcreator 2.41.92//
CALSCALE:GREGORIAN
METHOD:PUBLISH
UID:30633331-6232-4665-b236-383566383434
X-WR-CALNAME:KOKOS IMPORT Theatertermine
X-WR-CALDESC:
X-WR-TIMEZONE:Europe/Berlin
BEGIN:VEVENT
UID:30323235-6338-4430-b161-613964336462
DTSTAMP:20260420T031138Z
DESCRIPTION:
DTSTART:20260409T100000
DTEND:20260409T120000
SUMMARY:Offene Kirche
END:VEVENT
END:VCALENDAR
