BEGIN:VCALENDAR
VERSION:2.0
PRODID:-//81.201.148.31//NONSGML kigkonsult.se iCalcreator 2.41.92//
CALSCALE:GREGORIAN
METHOD:PUBLISH
UID:33646562-3939-4333-a665-613731303063
X-WR-CALNAME:KOKOS IMPORT Theatertermine
X-WR-CALDESC:
X-WR-TIMEZONE:Europe/Berlin
BEGIN:VEVENT
UID:37346532-6535-4161-a561-376632376564
DTSTAMP:20260420T021147Z
DESCRIPTION:
DTSTART:20260410T100000
DTEND:20260410T120000
SUMMARY:Offene Kirche
END:VEVENT
END:VCALENDAR
