BEGIN:VCALENDAR
VERSION:2.0
PRODID:-//81.201.148.31//NONSGML kigkonsult.se iCalcreator 2.41.92//
CALSCALE:GREGORIAN
METHOD:PUBLISH
UID:33666532-3634-4266-b036-656534333961
X-WR-CALNAME:KOKOS IMPORT Theatertermine
X-WR-CALDESC:
X-WR-TIMEZONE:Europe/Berlin
BEGIN:VEVENT
UID:33366336-6433-4338-b636-666238653666
DTSTAMP:20260420T190715Z
DESCRIPTION:
DTSTART:20260411T100000
DTEND:20260411T120000
SUMMARY:Offene Kirche
END:VEVENT
END:VCALENDAR
