BEGIN:VCALENDAR
VERSION:2.0
PRODID:-//81.201.148.31//NONSGML kigkonsult.se iCalcreator 2.41.92//
CALSCALE:GREGORIAN
METHOD:PUBLISH
UID:35633036-3663-4331-a461-393538626533
X-WR-CALNAME:KOKOS IMPORT Theatertermine
X-WR-CALDESC:
X-WR-TIMEZONE:Europe/Berlin
BEGIN:VEVENT
UID:30393561-3963-4136-a163-356664333331
DTSTAMP:20260420T070732Z
DESCRIPTION:
DTSTART:20260413T100000
DTEND:20260413T120000
SUMMARY:Offene Kirche
END:VEVENT
END:VCALENDAR
