BEGIN:VCALENDAR
VERSION:2.0
PRODID:-//81.201.148.31//NONSGML kigkonsult.se iCalcreator 2.41.92//
CALSCALE:GREGORIAN
METHOD:PUBLISH
UID:64356433-3535-4765-b265-353235356137
X-WR-CALNAME:KOKOS IMPORT Theatertermine
X-WR-CALDESC:
X-WR-TIMEZONE:Europe/Berlin
BEGIN:VEVENT
UID:39663736-6162-4963-a439-373665623636
DTSTAMP:20260420T185843Z
DESCRIPTION:
DTSTART:20260414T100000
DTEND:20260414T120000
SUMMARY:Offene Kirche
END:VEVENT
END:VCALENDAR
