BEGIN:VCALENDAR
VERSION:2.0
PRODID:-//81.201.148.31//NONSGML kigkonsult.se iCalcreator 2.41.92//
CALSCALE:GREGORIAN
METHOD:PUBLISH
UID:31323537-3135-4562-b661-366363336336
X-WR-CALNAME:KOKOS IMPORT Theatertermine
X-WR-CALDESC:
X-WR-TIMEZONE:Europe/Berlin
BEGIN:VEVENT
UID:66336463-3435-4662-b635-333639386137
DTSTAMP:20260420T154044Z
DESCRIPTION:
DTSTART:20260415T100000
DTEND:20260415T120000
SUMMARY:Offene Kirche
END:VEVENT
END:VCALENDAR
