BEGIN:VCALENDAR
VERSION:2.0
PRODID:-//81.201.148.31//NONSGML kigkonsult.se iCalcreator 2.41.92//
CALSCALE:GREGORIAN
METHOD:PUBLISH
UID:37366131-6136-4439-a332-636135313866
X-WR-CALNAME:KOKOS IMPORT Theatertermine
X-WR-CALDESC:
X-WR-TIMEZONE:Europe/Berlin
BEGIN:VEVENT
UID:61613033-3633-4366-b564-616461623531
DTSTAMP:20260420T101123Z
DESCRIPTION:
DTSTART:20260417T100000
DTEND:20260417T120000
SUMMARY:Offene Kirche
END:VEVENT
END:VCALENDAR
