BEGIN:VCALENDAR
VERSION:2.0
PRODID:-//81.201.148.31//NONSGML kigkonsult.se iCalcreator 2.41.92//
CALSCALE:GREGORIAN
METHOD:PUBLISH
UID:66396536-3038-4031-b937-653539643661
X-WR-CALNAME:KOKOS IMPORT Theatertermine
X-WR-CALDESC:
X-WR-TIMEZONE:Europe/Berlin
BEGIN:VEVENT
UID:35616261-3032-4661-a461-366464313738
DTSTAMP:20260421T053615Z
DESCRIPTION:
DTSTART:20260418T100000
DTEND:20260418T120000
SUMMARY:Offene Kirche
END:VEVENT
END:VCALENDAR
