BEGIN:VCALENDAR
VERSION:2.0
PRODID:-//81.201.148.31//NONSGML kigkonsult.se iCalcreator 2.41.92//
CALSCALE:GREGORIAN
METHOD:PUBLISH
UID:62343130-3534-4338-b938-653134346463
X-WR-CALNAME:KOKOS IMPORT Theatertermine
X-WR-CALDESC:
X-WR-TIMEZONE:Europe/Berlin
BEGIN:VEVENT
UID:63383766-3633-4134-b536-326561336263
DTSTAMP:20260419T160942Z
DESCRIPTION:
DTSTART:20260421T100000
DTEND:20260421T120000
SUMMARY:Offene Kirche
END:VEVENT
END:VCALENDAR
