BEGIN:VCALENDAR
VERSION:2.0
PRODID:-//81.201.148.31//NONSGML kigkonsult.se iCalcreator 2.41.92//
CALSCALE:GREGORIAN
METHOD:PUBLISH
UID:64316538-3539-4330-a363-343762643138
X-WR-CALNAME:KOKOS IMPORT Theatertermine
X-WR-CALDESC:
X-WR-TIMEZONE:Europe/Berlin
BEGIN:VEVENT
UID:32376365-3864-4366-b934-373437623462
DTSTAMP:20260420T233017Z
DESCRIPTION:
DTSTART:20260422T100000
DTEND:20260422T120000
SUMMARY:Offene Kirche
END:VEVENT
END:VCALENDAR
