BEGIN:VCALENDAR
VERSION:2.0
PRODID:-//81.201.148.31//NONSGML kigkonsult.se iCalcreator 2.41.92//
CALSCALE:GREGORIAN
METHOD:PUBLISH
UID:38666365-3662-4538-b236-333935636463
X-WR-CALNAME:KOKOS IMPORT Theatertermine
X-WR-CALDESC:
X-WR-TIMEZONE:Europe/Berlin
BEGIN:VEVENT
UID:33653431-3963-4431-b637-316431646335
DTSTAMP:20260421T053807Z
DESCRIPTION:
DTSTART:20260427T100000
DTEND:20260427T120000
SUMMARY:Offene Kirche
END:VEVENT
END:VCALENDAR
