BEGIN:VCALENDAR
VERSION:2.0
PRODID:-//81.201.148.31//NONSGML kigkonsult.se iCalcreator 2.41.92//
CALSCALE:GREGORIAN
METHOD:PUBLISH
UID:33343732-6439-4366-a464-623336383234
X-WR-CALNAME:KOKOS IMPORT Theatertermine
X-WR-CALDESC:
X-WR-TIMEZONE:Europe/Berlin
BEGIN:VEVENT
UID:61366334-3366-4230-b864-613063633536
DTSTAMP:20260421T053644Z
DESCRIPTION:
DTSTART:20260428T100000
DTEND:20260428T120000
SUMMARY:Offene Kirche
END:VEVENT
END:VCALENDAR
