BEGIN:VCALENDAR
VERSION:2.0
PRODID:-//81.201.148.31//NONSGML kigkonsult.se iCalcreator 2.41.92//
CALSCALE:GREGORIAN
METHOD:PUBLISH
UID:66313666-3039-4734-b164-383337353465
X-WR-CALNAME:KOKOS IMPORT Theatertermine
X-WR-CALDESC:
X-WR-TIMEZONE:Europe/Berlin
BEGIN:VEVENT
UID:36336431-6466-4662-b733-643237383031
DTSTAMP:20260421T053623Z
DESCRIPTION:
DTSTART:20260429T100000
DTEND:20260429T120000
SUMMARY:Offene Kirche
END:VEVENT
END:VCALENDAR
