BEGIN:VCALENDAR
VERSION:2.0
PRODID:-//81.201.148.31//NONSGML kigkonsult.se iCalcreator 2.41.92//
CALSCALE:GREGORIAN
METHOD:PUBLISH
UID:31363436-3931-4931-b230-613336303939
X-WR-CALNAME:KOKOS IMPORT Theatertermine
X-WR-CALDESC:
X-WR-TIMEZONE:Europe/Berlin
BEGIN:VEVENT
UID:38343466-3931-4066-b333-313763646561
DTSTAMP:20260421T053731Z
DESCRIPTION:
DTSTART:20260430T100000
DTEND:20260430T120000
SUMMARY:Offene Kirche
END:VEVENT
END:VCALENDAR
