BEGIN:VCALENDAR
VERSION:2.0
PRODID:-//81.201.148.31//NONSGML kigkonsult.se iCalcreator 2.41.92//
CALSCALE:GREGORIAN
METHOD:PUBLISH
UID:63343738-3266-4161-b936-383363653734
X-WR-CALNAME:KOKOS IMPORT Theatertermine
X-WR-CALDESC:
X-WR-TIMEZONE:Europe/Berlin
BEGIN:VEVENT
UID:34666233-3731-4362-a238-353732336661
DTSTAMP:20260421T053726Z
DESCRIPTION:
DTSTART:20260502T100000
DTEND:20260502T120000
SUMMARY:Offene Kirche
END:VEVENT
END:VCALENDAR
