BEGIN:VCALENDAR
VERSION:2.0
PRODID:-//81.201.148.31//NONSGML kigkonsult.se iCalcreator 2.41.92//
CALSCALE:GREGORIAN
METHOD:PUBLISH
UID:65326535-6361-4466-b730-643237323437
X-WR-CALNAME:KOKOS IMPORT Theatertermine
X-WR-CALDESC:
X-WR-TIMEZONE:Europe/Berlin
BEGIN:VEVENT
UID:62626338-3938-4139-a363-633661353264
DTSTAMP:20260421T053623Z
DESCRIPTION:
DTSTART:20260504T100000
DTEND:20260504T120000
SUMMARY:Offene Kirche
END:VEVENT
END:VCALENDAR
