BEGIN:VCALENDAR
VERSION:2.0
PRODID:-//81.201.148.31//NONSGML kigkonsult.se iCalcreator 2.41.92//
CALSCALE:GREGORIAN
METHOD:PUBLISH
UID:33353266-6639-4535-a165-383237613161
X-WR-CALNAME:KOKOS IMPORT Theatertermine
X-WR-CALDESC:
X-WR-TIMEZONE:Europe/Berlin
BEGIN:VEVENT
UID:34343862-6230-4865-b836-346166363861
DTSTAMP:20260421T074103Z
DESCRIPTION:
DTSTART:20260505T100000
DTEND:20260505T120000
SUMMARY:Offene Kirche
END:VEVENT
END:VCALENDAR
