BEGIN:VCALENDAR
VERSION:2.0
PRODID:-//81.201.148.31//NONSGML kigkonsult.se iCalcreator 2.41.92//
CALSCALE:GREGORIAN
METHOD:PUBLISH
UID:31626430-3664-4932-a161-643938313933
X-WR-CALNAME:KOKOS IMPORT Theatertermine
X-WR-CALDESC:
X-WR-TIMEZONE:Europe/Berlin
BEGIN:VEVENT
UID:64376262-3861-4230-b161-643333613635
DTSTAMP:20260421T100122Z
DESCRIPTION:
DTSTART:20260507T100000
DTEND:20260507T120000
SUMMARY:Offene Kirche
END:VEVENT
END:VCALENDAR
