BEGIN:VCALENDAR
VERSION:2.0
PRODID:-//81.201.148.31//NONSGML kigkonsult.se iCalcreator 2.41.92//
CALSCALE:GREGORIAN
METHOD:PUBLISH
UID:37333735-3735-4437-a663-663564646263
X-WR-CALNAME:KOKOS IMPORT Theatertermine
X-WR-CALDESC:
X-WR-TIMEZONE:Europe/Berlin
BEGIN:VEVENT
UID:32643238-6539-4939-b433-616631643264
DTSTAMP:20260421T103431Z
DESCRIPTION:
DTSTART:20260509T100000
DTEND:20260509T120000
SUMMARY:Offene Kirche
END:VEVENT
END:VCALENDAR
