BEGIN:VCALENDAR
VERSION:2.0
PRODID:-//81.201.148.31//NONSGML kigkonsult.se iCalcreator 2.41.92//
CALSCALE:GREGORIAN
METHOD:PUBLISH
UID:39303132-3830-4961-b233-383232656566
X-WR-CALNAME:KOKOS IMPORT Theatertermine
X-WR-CALDESC:
X-WR-TIMEZONE:Europe/Berlin
BEGIN:VEVENT
UID:33633030-3064-4135-a536-373165323166
DTSTAMP:20260421T235534Z
DESCRIPTION:
DTSTART:20260511T100000
DTEND:20260511T120000
SUMMARY:Offene Kirche
END:VEVENT
END:VCALENDAR
