BEGIN:VCALENDAR
VERSION:2.0
PRODID:-//81.201.148.31//NONSGML kigkonsult.se iCalcreator 2.41.92//
CALSCALE:GREGORIAN
METHOD:PUBLISH
UID:63373139-3463-4564-b239-616261396362
X-WR-CALNAME:KOKOS IMPORT Theatertermine
X-WR-CALDESC:
X-WR-TIMEZONE:Europe/Berlin
BEGIN:VEVENT
UID:65353937-3734-4564-b839-383363663161
DTSTAMP:20260422T031812Z
DESCRIPTION:
DTSTART:20260512T100000
DTEND:20260512T120000
SUMMARY:Offene Kirche
END:VEVENT
END:VCALENDAR
