BEGIN:VCALENDAR
VERSION:2.0
PRODID:-//81.201.148.31//NONSGML kigkonsult.se iCalcreator 2.41.92//
CALSCALE:GREGORIAN
METHOD:PUBLISH
UID:66313266-3839-4665-a637-643639326264
X-WR-CALNAME:KOKOS IMPORT Theatertermine
X-WR-CALDESC:
X-WR-TIMEZONE:Europe/Berlin
BEGIN:VEVENT
UID:66643165-6631-4361-b362-353863343830
DTSTAMP:20260423T093533Z
DESCRIPTION:
DTSTART:20261028T100000
DTEND:20261028T120000
SUMMARY:Offene Kirche
END:VEVENT
END:VCALENDAR
