BEGIN:VCALENDAR
VERSION:2.0
PRODID:-//81.201.148.31//NONSGML kigkonsult.se iCalcreator 2.41.92//
CALSCALE:GREGORIAN
METHOD:PUBLISH
UID:61303735-3035-4638-a634-643064306562
X-WR-CALNAME:KOKOS IMPORT Theatertermine
X-WR-CALDESC:
X-WR-TIMEZONE:Europe/Berlin
BEGIN:VEVENT
UID:30646563-3237-4637-b632-356434396438
DTSTAMP:20260423T093400Z
DESCRIPTION:
DTSTART:20261029T100000
DTEND:20261029T120000
SUMMARY:Offene Kirche
END:VEVENT
END:VCALENDAR
