BEGIN:VCALENDAR
VERSION:2.0
PRODID:-//81.201.148.31//NONSGML kigkonsult.se iCalcreator 2.41.92//
CALSCALE:GREGORIAN
METHOD:PUBLISH
UID:38316661-3966-4131-a137-353764366463
X-WR-CALNAME:KOKOS IMPORT Theatertermine
X-WR-CALDESC:
X-WR-TIMEZONE:Europe/Berlin
BEGIN:VEVENT
UID:61613261-3433-4237-b563-653939663863
DTSTAMP:20260423T093307Z
DESCRIPTION:
DTSTART:20261030T100000
DTEND:20261030T120000
SUMMARY:Offene Kirche
END:VEVENT
END:VCALENDAR
