BEGIN:VCALENDAR
VERSION:2.0
PRODID:-//81.201.148.31//NONSGML kigkonsult.se iCalcreator 2.41.92//
CALSCALE:GREGORIAN
METHOD:PUBLISH
UID:62343433-3461-4238-a264-316236326139
X-WR-CALNAME:KOKOS IMPORT Theatertermine
X-WR-CALDESC:
X-WR-TIMEZONE:Europe/Berlin
BEGIN:VEVENT
UID:62666161-3436-4366-a339-306633626433
DTSTAMP:20260423T104434Z
DESCRIPTION:
DTSTART:20261102T100000
DTEND:20261102T120000
SUMMARY:Offene Kirche
END:VEVENT
END:VCALENDAR
