BEGIN:VCALENDAR
VERSION:2.0
PRODID:-//81.201.148.31//NONSGML kigkonsult.se iCalcreator 2.41.92//
CALSCALE:GREGORIAN
METHOD:PUBLISH
UID:66393464-3733-4066-b065-363137613639
X-WR-CALNAME:KOKOS IMPORT Theatertermine
X-WR-CALDESC:
X-WR-TIMEZONE:Europe/Berlin
BEGIN:VEVENT
UID:34323132-3539-4237-a230-323764653330
DTSTAMP:20260423T104629Z
DESCRIPTION:
DTSTART:20261106T100000
DTEND:20261106T120000
SUMMARY:Offene Kirche
END:VEVENT
END:VCALENDAR
