BEGIN:VCALENDAR
VERSION:2.0
PRODID:-//81.201.148.31//NONSGML kigkonsult.se iCalcreator 2.41.92//
CALSCALE:GREGORIAN
METHOD:PUBLISH
UID:65633630-3866-4466-a135-346137336439
X-WR-CALNAME:KOKOS IMPORT Theatertermine
X-WR-CALDESC:
X-WR-TIMEZONE:Europe/Berlin
BEGIN:VEVENT
UID:63633765-6364-4436-b664-396230343633
DTSTAMP:20260423T093500Z
DESCRIPTION:
DTSTART:20261109T100000
DTEND:20261109T120000
SUMMARY:Offene Kirche
END:VEVENT
END:VCALENDAR
