BEGIN:VCALENDAR
VERSION:2.0
PRODID:-//81.201.148.31//NONSGML kigkonsult.se iCalcreator 2.41.92//
CALSCALE:GREGORIAN
METHOD:PUBLISH
UID:66303564-6636-4864-b864-326139613833
X-WR-CALNAME:KOKOS IMPORT Theatertermine
X-WR-CALDESC:
X-WR-TIMEZONE:Europe/Berlin
BEGIN:VEVENT
UID:63393366-3064-4237-a462-613237616135
DTSTAMP:20260423T093351Z
DESCRIPTION:
DTSTART:20261112T100000
DTEND:20261112T120000
SUMMARY:Offene Kirche
END:VEVENT
END:VCALENDAR
