BEGIN:VCALENDAR
VERSION:2.0
PRODID:-//81.201.148.31//NONSGML kigkonsult.se iCalcreator 2.41.92//
CALSCALE:GREGORIAN
METHOD:PUBLISH
UID:30306135-3439-4364-b132-396332353133
X-WR-CALNAME:KOKOS IMPORT Theatertermine
X-WR-CALDESC:
X-WR-TIMEZONE:Europe/Berlin
BEGIN:VEVENT
UID:36663331-3935-4634-b637-336563613461
DTSTAMP:20260423T093401Z
DESCRIPTION:
DTSTART:20261113T100000
DTEND:20261113T120000
SUMMARY:Offene Kirche
END:VEVENT
END:VCALENDAR
