BEGIN:VCALENDAR
VERSION:2.0
PRODID:-//81.201.148.31//NONSGML kigkonsult.se iCalcreator 2.41.92//
CALSCALE:GREGORIAN
METHOD:PUBLISH
UID:32316165-3665-4639-b134-626564393838
X-WR-CALNAME:KOKOS IMPORT Theatertermine
X-WR-CALDESC:
X-WR-TIMEZONE:Europe/Berlin
BEGIN:VEVENT
UID:34313364-6532-4564-b463-653535633538
DTSTAMP:20260423T093333Z
DESCRIPTION:
DTSTART:20261114T100000
DTEND:20261114T120000
SUMMARY:Offene Kirche
END:VEVENT
END:VCALENDAR
