BEGIN:VCALENDAR
VERSION:2.0
PRODID:-//81.201.148.31//NONSGML kigkonsult.se iCalcreator 2.41.92//
CALSCALE:GREGORIAN
METHOD:PUBLISH
UID:35653239-3232-4734-b230-336232626563
X-WR-CALNAME:KOKOS IMPORT Theatertermine
X-WR-CALDESC:
X-WR-TIMEZONE:Europe/Berlin
BEGIN:VEVENT
UID:39613161-3965-4665-b637-303766323639
DTSTAMP:20260423T104617Z
DESCRIPTION:
DTSTART:20260105T130000
DTEND:20260105T173000
SUMMARY:Offene Kirche
END:VEVENT
END:VCALENDAR
